BEGIN:VCALENDAR
VERSION:2.0
PRODID:https://www.kufer.de/kuferweb / DE
METHOD:PUBLISH
CALSCALE:GREGORIAN
X-WR-TIMEZONE:Europe/Berlin
BEGIN:VTIMEZONE
TZID:Europe/Berlin
X-LIC-LOCATION:Europe/Berlin
BEGIN:DAYLIGHT
TZOFFSETFROM:+0100
TZOFFSETTO:+0200
TZNAME:CEST
DTSTART:19700329T020000
RRULE:FREQ=YEARLY;INTERVAL=1;BYDAY=-1SU;BYMONTH=3
END:DAYLIGHT
BEGIN:STANDARD
TZOFFSETFROM:+0200
TZOFFSETTO:+0100
TZNAME:CET
DTSTART:19701025T030000
RRULE:FREQ=YEARLY;INTERVAL=1;BYDAY=-1SU;BYMONTH=10
END:STANDARD
END:VTIMEZONE
BEGIN:VEVENT
DTSTAMP:20260422T125958
DTSTART;TZID=Europe/Berlin:20260925T083000
DTEND;TZID=Europe/Berlin:20260925T123000
UID:262-40404-20260925T083000@VHSAALEN
SUMMARY:Alphabetisierungskurs (Modul 4) - Integrationskurs (262-40404) 
LOCATION:Torhaus, Clubraum 4, 4. OG, Gmünder Str. 9,73430 Aalen, Gmünder Str. 9, 73430 Aalen
END:VEVENT
BEGIN:VEVENT
DTSTAMP:20260422T125958
DTSTART;TZID=Europe/Berlin:20260929T083000
DTEND;TZID=Europe/Berlin:20260929T114500
UID:262-40404-20260929T083000@VHSAALEN
SUMMARY:Alphabetisierungskurs (Modul 4) - Integrationskurs (262-40404) 
LOCATION:Torhaus, Clubraum 4, 4. OG, Gmünder Str. 9,73430 Aalen, Gmünder Str. 9, 73430 Aalen
END:VEVENT
BEGIN:VEVENT
DTSTAMP:20260422T125958
DTSTART;TZID=Europe/Berlin:20260930T083000
DTEND;TZID=Europe/Berlin:20260930T123000
UID:262-40404-20260930T083000@VHSAALEN
SUMMARY:Alphabetisierungskurs (Modul 4) - Integrationskurs (262-40404) 
LOCATION:Torhaus, Clubraum 4, 4. OG, Gmünder Str. 9,73430 Aalen, Gmünder Str. 9, 73430 Aalen
END:VEVENT
BEGIN:VEVENT
DTSTAMP:20260422T125958
DTSTART;TZID=Europe/Berlin:20261001T083000
DTEND;TZID=Europe/Berlin:20261001T114500
UID:262-40404-20261001T083000@VHSAALEN
SUMMARY:Alphabetisierungskurs (Modul 4) - Integrationskurs (262-40404) 
LOCATION:Torhaus, Clubraum 4, 4. OG, Gmünder Str. 9,73430 Aalen, Gmünder Str. 9, 73430 Aalen
END:VEVENT
BEGIN:VEVENT
DTSTAMP:20260422T125958
DTSTART;TZID=Europe/Berlin:20261002T083000
DTEND;TZID=Europe/Berlin:20261002T123000
UID:262-40404-20261002T083000@VHSAALEN
SUMMARY:Alphabetisierungskurs (Modul 4) - Integrationskurs (262-40404) 
LOCATION:Torhaus, Clubraum 4, 4. OG, Gmünder Str. 9,73430 Aalen, Gmünder Str. 9, 73430 Aalen
END:VEVENT
BEGIN:VEVENT
DTSTAMP:20260422T125958
DTSTART;TZID=Europe/Berlin:20261006T083000
DTEND;TZID=Europe/Berlin:20261006T114500
UID:262-40404-20261006T083000@VHSAALEN
SUMMARY:Alphabetisierungskurs (Modul 4) - Integrationskurs (262-40404) 
LOCATION:Torhaus, Clubraum 4, 4. OG, Gmünder Str. 9,73430 Aalen, Gmünder Str. 9, 73430 Aalen
END:VEVENT
BEGIN:VEVENT
DTSTAMP:20260422T125958
DTSTART;TZID=Europe/Berlin:20261007T083000
DTEND;TZID=Europe/Berlin:20261007T123000
UID:262-40404-20261007T083000@VHSAALEN
SUMMARY:Alphabetisierungskurs (Modul 4) - Integrationskurs (262-40404) 
LOCATION:Torhaus, Clubraum 4, 4. OG, Gmünder Str. 9,73430 Aalen, Gmünder Str. 9, 73430 Aalen
END:VEVENT
BEGIN:VEVENT
DTSTAMP:20260422T125958
DTSTART;TZID=Europe/Berlin:20261008T083000
DTEND;TZID=Europe/Berlin:20261008T114500
UID:262-40404-20261008T083000@VHSAALEN
SUMMARY:Alphabetisierungskurs (Modul 4) - Integrationskurs (262-40404) 
LOCATION:Torhaus, Clubraum 4, 4. OG, Gmünder Str. 9,73430 Aalen, Gmünder Str. 9, 73430 Aalen
END:VEVENT
BEGIN:VEVENT
DTSTAMP:20260422T125958
DTSTART;TZID=Europe/Berlin:20261009T083000
DTEND;TZID=Europe/Berlin:20261009T123000
UID:262-40404-20261009T083000@VHSAALEN
SUMMARY:Alphabetisierungskurs (Modul 4) - Integrationskurs (262-40404) 
LOCATION:Torhaus, Clubraum 4, 4. OG, Gmünder Str. 9,73430 Aalen, Gmünder Str. 9, 73430 Aalen
END:VEVENT
BEGIN:VEVENT
DTSTAMP:20260422T125958
DTSTART;TZID=Europe/Berlin:20261013T083000
DTEND;TZID=Europe/Berlin:20261013T114500
UID:262-40404-20261013T083000@VHSAALEN
SUMMARY:Alphabetisierungskurs (Modul 4) - Integrationskurs (262-40404) 
LOCATION:Torhaus, Clubraum 4, 4. OG, Gmünder Str. 9,73430 Aalen, Gmünder Str. 9, 73430 Aalen
END:VEVENT
BEGIN:VEVENT
DTSTAMP:20260422T125958
DTSTART;TZID=Europe/Berlin:20261014T083000
DTEND;TZID=Europe/Berlin:20261014T123000
UID:262-40404-20261014T083000@VHSAALEN
SUMMARY:Alphabetisierungskurs (Modul 4) - Integrationskurs (262-40404) 
LOCATION:Torhaus, Clubraum 4, 4. OG, Gmünder Str. 9,73430 Aalen, Gmünder Str. 9, 73430 Aalen
END:VEVENT
BEGIN:VEVENT
DTSTAMP:20260422T125958
DTSTART;TZID=Europe/Berlin:20261015T083000
DTEND;TZID=Europe/Berlin:20261015T114500
UID:262-40404-20261015T083000@VHSAALEN
SUMMARY:Alphabetisierungskurs (Modul 4) - Integrationskurs (262-40404) 
LOCATION:Torhaus, Clubraum 4, 4. OG, Gmünder Str. 9,73430 Aalen, Gmünder Str. 9, 73430 Aalen
END:VEVENT
BEGIN:VEVENT
DTSTAMP:20260422T125958
DTSTART;TZID=Europe/Berlin:20261016T083000
DTEND;TZID=Europe/Berlin:20261016T123000
UID:262-40404-20261016T083000@VHSAALEN
SUMMARY:Alphabetisierungskurs (Modul 4) - Integrationskurs (262-40404) 
LOCATION:Torhaus, Clubraum 4, 4. OG, Gmünder Str. 9,73430 Aalen, Gmünder Str. 9, 73430 Aalen
END:VEVENT
BEGIN:VEVENT
DTSTAMP:20260422T125958
DTSTART;TZID=Europe/Berlin:20261020T083000
DTEND;TZID=Europe/Berlin:20261020T114500
UID:262-40404-20261020T083000@VHSAALEN
SUMMARY:Alphabetisierungskurs (Modul 4) - Integrationskurs (262-40404) 
LOCATION:Torhaus, Clubraum 4, 4. OG, Gmünder Str. 9,73430 Aalen, Gmünder Str. 9, 73430 Aalen
END:VEVENT
BEGIN:VEVENT
DTSTAMP:20260422T125958
DTSTART;TZID=Europe/Berlin:20261021T083000
DTEND;TZID=Europe/Berlin:20261021T123000
UID:262-40404-20261021T083000@VHSAALEN
SUMMARY:Alphabetisierungskurs (Modul 4) - Integrationskurs (262-40404) 
LOCATION:Torhaus, Clubraum 4, 4. OG, Gmünder Str. 9,73430 Aalen, Gmünder Str. 9, 73430 Aalen
END:VEVENT
BEGIN:VEVENT
DTSTAMP:20260422T125958
DTSTART;TZID=Europe/Berlin:20261022T083000
DTEND;TZID=Europe/Berlin:20261022T114500
UID:262-40404-20261022T083000@VHSAALEN
SUMMARY:Alphabetisierungskurs (Modul 4) - Integrationskurs (262-40404) 
LOCATION:Torhaus, Clubraum 4, 4. OG, Gmünder Str. 9,73430 Aalen, Gmünder Str. 9, 73430 Aalen
END:VEVENT
BEGIN:VEVENT
DTSTAMP:20260422T125958
DTSTART;TZID=Europe/Berlin:20261023T083000
DTEND;TZID=Europe/Berlin:20261023T123000
UID:262-40404-20261023T083000@VHSAALEN
SUMMARY:Alphabetisierungskurs (Modul 4) - Integrationskurs (262-40404) 
LOCATION:Torhaus, Clubraum 4, 4. OG, Gmünder Str. 9,73430 Aalen, Gmünder Str. 9, 73430 Aalen
END:VEVENT
BEGIN:VEVENT
DTSTAMP:20260422T125958
DTSTART;TZID=Europe/Berlin:20261103T083000
DTEND;TZID=Europe/Berlin:20261103T114500
UID:262-40404-20261103T083000@VHSAALEN
SUMMARY:Alphabetisierungskurs (Modul 4) - Integrationskurs (262-40404) 
LOCATION:Torhaus, Clubraum 4, 4. OG, Gmünder Str. 9,73430 Aalen, Gmünder Str. 9, 73430 Aalen
END:VEVENT
BEGIN:VEVENT
DTSTAMP:20260422T125958
DTSTART;TZID=Europe/Berlin:20261104T083000
DTEND;TZID=Europe/Berlin:20261104T123000
UID:262-40404-20261104T083000@VHSAALEN
SUMMARY:Alphabetisierungskurs (Modul 4) - Integrationskurs (262-40404) 
LOCATION:Torhaus, Clubraum 4, 4. OG, Gmünder Str. 9,73430 Aalen, Gmünder Str. 9, 73430 Aalen
END:VEVENT
BEGIN:VEVENT
DTSTAMP:20260422T125958
DTSTART;TZID=Europe/Berlin:20261105T083000
DTEND;TZID=Europe/Berlin:20261105T114500
UID:262-40404-20261105T083000@VHSAALEN
SUMMARY:Alphabetisierungskurs (Modul 4) - Integrationskurs (262-40404) 
LOCATION:Torhaus, Clubraum 4, 4. OG, Gmünder Str. 9,73430 Aalen, Gmünder Str. 9, 73430 Aalen
END:VEVENT
BEGIN:VEVENT
DTSTAMP:20260422T125958
DTSTART;TZID=Europe/Berlin:20261106T083000
DTEND;TZID=Europe/Berlin:20261106T123000
UID:262-40404-20261106T083000@VHSAALEN
SUMMARY:Alphabetisierungskurs (Modul 4) - Integrationskurs (262-40404) 
LOCATION:Torhaus, Clubraum 4, 4. OG, Gmünder Str. 9,73430 Aalen, Gmünder Str. 9, 73430 Aalen
END:VEVENT
BEGIN:VEVENT
DTSTAMP:20260422T125958
DTSTART;TZID=Europe/Berlin:20261110T083000
DTEND;TZID=Europe/Berlin:20261110T123000
UID:262-40404-20261110T083000@VHSAALEN
SUMMARY:Alphabetisierungskurs (Modul 4) - Integrationskurs (262-40404) 
LOCATION:Torhaus, Clubraum 4, 4. OG, Gmünder Str. 9,73430 Aalen, Gmünder Str. 9, 73430 Aalen
END:VEVENT
END:VCALENDAR