BEGIN:VCALENDAR
VERSION:2.0
PRODID:https://www.kufer.de/kuferweb / DE
METHOD:PUBLISH
CALSCALE:GREGORIAN
X-WR-TIMEZONE:Europe/Berlin
BEGIN:VTIMEZONE
TZID:Europe/Berlin
X-LIC-LOCATION:Europe/Berlin
BEGIN:DAYLIGHT
TZOFFSETFROM:+0100
TZOFFSETTO:+0200
TZNAME:CEST
DTSTART:19700329T020000
RRULE:FREQ=YEARLY;INTERVAL=1;BYDAY=-1SU;BYMONTH=3
END:DAYLIGHT
BEGIN:STANDARD
TZOFFSETFROM:+0200
TZOFFSETTO:+0100
TZNAME:CET
DTSTART:19701025T030000
RRULE:FREQ=YEARLY;INTERVAL=1;BYDAY=-1SU;BYMONTH=10
END:STANDARD
END:VTIMEZONE
BEGIN:VEVENT
DTSTAMP:20260422T084743
DTSTART;TZID=Europe/Berlin:20260413T130000
DTEND;TZID=Europe/Berlin:20260413T152500
UID:261-40611-20260413T130000@VHSAALEN
SUMMARY:ONLINE Deutsch B 1 - Teil 2 Integrationskurs (261-40611) 
LOCATION:Online, Zoom,  , 73430
END:VEVENT
BEGIN:VEVENT
DTSTAMP:20260422T084744
DTSTART;TZID=Europe/Berlin:20260414T130000
DTEND;TZID=Europe/Berlin:20260414T152500
UID:261-40611-20260414T130000@VHSAALEN
SUMMARY:ONLINE Deutsch B 1 - Teil 2 Integrationskurs (261-40611) 
LOCATION:Online, Zoom,  , 73430
END:VEVENT
BEGIN:VEVENT
DTSTAMP:20260422T084744
DTSTART;TZID=Europe/Berlin:20260415T130000
DTEND;TZID=Europe/Berlin:20260415T152500
UID:261-40611-20260415T130000@VHSAALEN
SUMMARY:ONLINE Deutsch B 1 - Teil 2 Integrationskurs (261-40611) 
LOCATION:Online, Zoom,  , 73430
END:VEVENT
BEGIN:VEVENT
DTSTAMP:20260422T084744
DTSTART;TZID=Europe/Berlin:20260416T130000
DTEND;TZID=Europe/Berlin:20260416T152500
UID:261-40611-20260416T130000@VHSAALEN
SUMMARY:ONLINE Deutsch B 1 - Teil 2 Integrationskurs (261-40611) 
LOCATION:Online, Zoom,  , 73430
END:VEVENT
BEGIN:VEVENT
DTSTAMP:20260422T084744
DTSTART;TZID=Europe/Berlin:20260420T130000
DTEND;TZID=Europe/Berlin:20260420T152500
UID:261-40611-20260420T130000@VHSAALEN
SUMMARY:ONLINE Deutsch B 1 - Teil 2 Integrationskurs (261-40611) 
LOCATION:Online, Zoom,  , 73430
END:VEVENT
BEGIN:VEVENT
DTSTAMP:20260422T084744
DTSTART;TZID=Europe/Berlin:20260421T130000
DTEND;TZID=Europe/Berlin:20260421T152500
UID:261-40611-20260421T130000@VHSAALEN
SUMMARY:ONLINE Deutsch B 1 - Teil 2 Integrationskurs (261-40611) 
LOCATION:Online, Zoom,  , 73430
END:VEVENT
BEGIN:VEVENT
DTSTAMP:20260422T084744
DTSTART;TZID=Europe/Berlin:20260422T130000
DTEND;TZID=Europe/Berlin:20260422T152500
UID:261-40611-20260422T130000@VHSAALEN
SUMMARY:ONLINE Deutsch B 1 - Teil 2 Integrationskurs (261-40611) 
LOCATION:Online, Zoom,  , 73430
END:VEVENT
BEGIN:VEVENT
DTSTAMP:20260422T084744
DTSTART;TZID=Europe/Berlin:20260423T130000
DTEND;TZID=Europe/Berlin:20260423T152500
UID:261-40611-20260423T130000@VHSAALEN
SUMMARY:ONLINE Deutsch B 1 - Teil 2 Integrationskurs (261-40611) 
LOCATION:Online, Zoom,  , 73430
END:VEVENT
BEGIN:VEVENT
DTSTAMP:20260422T084744
DTSTART;TZID=Europe/Berlin:20260427T130000
DTEND;TZID=Europe/Berlin:20260427T152500
UID:261-40611-20260427T130000@VHSAALEN
SUMMARY:ONLINE Deutsch B 1 - Teil 2 Integrationskurs (261-40611) 
LOCATION:Online, Zoom,  , 73430
END:VEVENT
BEGIN:VEVENT
DTSTAMP:20260422T084744
DTSTART;TZID=Europe/Berlin:20260428T130000
DTEND;TZID=Europe/Berlin:20260428T152500
UID:261-40611-20260428T130000@VHSAALEN
SUMMARY:ONLINE Deutsch B 1 - Teil 2 Integrationskurs (261-40611) 
LOCATION:Online, Zoom,  , 73430
END:VEVENT
BEGIN:VEVENT
DTSTAMP:20260422T084744
DTSTART;TZID=Europe/Berlin:20260429T130000
DTEND;TZID=Europe/Berlin:20260429T152500
UID:261-40611-20260429T130000@VHSAALEN
SUMMARY:ONLINE Deutsch B 1 - Teil 2 Integrationskurs (261-40611) 
LOCATION:Online, Zoom,  , 73430
END:VEVENT
BEGIN:VEVENT
DTSTAMP:20260422T084744
DTSTART;TZID=Europe/Berlin:20260430T130000
DTEND;TZID=Europe/Berlin:20260430T152500
UID:261-40611-20260430T130000@VHSAALEN
SUMMARY:ONLINE Deutsch B 1 - Teil 2 Integrationskurs (261-40611) 
LOCATION:Online, Zoom,  , 73430
END:VEVENT
BEGIN:VEVENT
DTSTAMP:20260422T084744
DTSTART;TZID=Europe/Berlin:20260504T130000
DTEND;TZID=Europe/Berlin:20260504T152500
UID:261-40611-20260504T130000@VHSAALEN
SUMMARY:ONLINE Deutsch B 1 - Teil 2 Integrationskurs (261-40611) 
LOCATION:Online, Zoom,  , 73430
END:VEVENT
BEGIN:VEVENT
DTSTAMP:20260422T084744
DTSTART;TZID=Europe/Berlin:20260505T130000
DTEND;TZID=Europe/Berlin:20260505T152500
UID:261-40611-20260505T130000@VHSAALEN
SUMMARY:ONLINE Deutsch B 1 - Teil 2 Integrationskurs (261-40611) 
LOCATION:Online, Zoom,  , 73430
END:VEVENT
BEGIN:VEVENT
DTSTAMP:20260422T084744
DTSTART;TZID=Europe/Berlin:20260506T130000
DTEND;TZID=Europe/Berlin:20260506T152500
UID:261-40611-20260506T130000@VHSAALEN
SUMMARY:ONLINE Deutsch B 1 - Teil 2 Integrationskurs (261-40611) 
LOCATION:Online, Zoom,  , 73430
END:VEVENT
BEGIN:VEVENT
DTSTAMP:20260422T084744
DTSTART;TZID=Europe/Berlin:20260507T130000
DTEND;TZID=Europe/Berlin:20260507T152500
UID:261-40611-20260507T130000@VHSAALEN
SUMMARY:ONLINE Deutsch B 1 - Teil 2 Integrationskurs (261-40611) 
LOCATION:Online, Zoom,  , 73430
END:VEVENT
BEGIN:VEVENT
DTSTAMP:20260422T084744
DTSTART;TZID=Europe/Berlin:20260511T130000
DTEND;TZID=Europe/Berlin:20260511T152500
UID:261-40611-20260511T130000@VHSAALEN
SUMMARY:ONLINE Deutsch B 1 - Teil 2 Integrationskurs (261-40611) 
LOCATION:Online, Zoom,  , 73430
END:VEVENT
BEGIN:VEVENT
DTSTAMP:20260422T084744
DTSTART;TZID=Europe/Berlin:20260512T130000
DTEND;TZID=Europe/Berlin:20260512T152500
UID:261-40611-20260512T130000@VHSAALEN
SUMMARY:ONLINE Deutsch B 1 - Teil 2 Integrationskurs (261-40611) 
LOCATION:Online, Zoom,  , 73430
END:VEVENT
BEGIN:VEVENT
DTSTAMP:20260422T084744
DTSTART;TZID=Europe/Berlin:20260513T130000
DTEND;TZID=Europe/Berlin:20260513T152500
UID:261-40611-20260513T130000@VHSAALEN
SUMMARY:ONLINE Deutsch B 1 - Teil 2 Integrationskurs (261-40611) 
LOCATION:Online, Zoom,  , 73430
END:VEVENT
BEGIN:VEVENT
DTSTAMP:20260422T084744
DTSTART;TZID=Europe/Berlin:20260518T130000
DTEND;TZID=Europe/Berlin:20260518T152500
UID:261-40611-20260518T130000@VHSAALEN
SUMMARY:ONLINE Deutsch B 1 - Teil 2 Integrationskurs (261-40611) 
LOCATION:Online, Zoom,  , 73430
END:VEVENT
BEGIN:VEVENT
DTSTAMP:20260422T084744
DTSTART;TZID=Europe/Berlin:20260519T130000
DTEND;TZID=Europe/Berlin:20260519T152500
UID:261-40611-20260519T130000@VHSAALEN
SUMMARY:ONLINE Deutsch B 1 - Teil 2 Integrationskurs (261-40611) 
LOCATION:Online, Zoom,  , 73430
END:VEVENT
BEGIN:VEVENT
DTSTAMP:20260422T084744
DTSTART;TZID=Europe/Berlin:20260520T130000
DTEND;TZID=Europe/Berlin:20260520T152500
UID:261-40611-20260520T130000@VHSAALEN
SUMMARY:ONLINE Deutsch B 1 - Teil 2 Integrationskurs (261-40611) 
LOCATION:Online, Zoom,  , 73430
END:VEVENT
BEGIN:VEVENT
DTSTAMP:20260422T084744
DTSTART;TZID=Europe/Berlin:20260521T130000
DTEND;TZID=Europe/Berlin:20260521T152500
UID:261-40611-20260521T130000@VHSAALEN
SUMMARY:ONLINE Deutsch B 1 - Teil 2 Integrationskurs (261-40611) 
LOCATION:Online, Zoom,  , 73430
END:VEVENT
BEGIN:VEVENT
DTSTAMP:20260422T084744
DTSTART;TZID=Europe/Berlin:20260608T130000
DTEND;TZID=Europe/Berlin:20260608T152500
UID:261-40611-20260608T130000@VHSAALEN
SUMMARY:ONLINE Deutsch B 1 - Teil 2 Integrationskurs (261-40611) 
LOCATION:Online, Zoom,  , 73430
END:VEVENT
BEGIN:VEVENT
DTSTAMP:20260422T084744
DTSTART;TZID=Europe/Berlin:20260609T130000
DTEND;TZID=Europe/Berlin:20260609T152500
UID:261-40611-20260609T130000@VHSAALEN
SUMMARY:ONLINE Deutsch B 1 - Teil 2 Integrationskurs (261-40611) 
LOCATION:Online, Zoom,  , 73430
END:VEVENT
BEGIN:VEVENT
DTSTAMP:20260422T084744
DTSTART;TZID=Europe/Berlin:20260610T130000
DTEND;TZID=Europe/Berlin:20260610T152500
UID:261-40611-20260610T130000@VHSAALEN
SUMMARY:ONLINE Deutsch B 1 - Teil 2 Integrationskurs (261-40611) 
LOCATION:Online, Zoom,  , 73430
END:VEVENT
BEGIN:VEVENT
DTSTAMP:20260422T084744
DTSTART;TZID=Europe/Berlin:20260611T130000
DTEND;TZID=Europe/Berlin:20260611T152500
UID:261-40611-20260611T130000@VHSAALEN
SUMMARY:ONLINE Deutsch B 1 - Teil 2 Integrationskurs (261-40611) 
LOCATION:Online, Zoom,  , 73430
END:VEVENT
BEGIN:VEVENT
DTSTAMP:20260422T084744
DTSTART;TZID=Europe/Berlin:20260615T130000
DTEND;TZID=Europe/Berlin:20260615T152500
UID:261-40611-20260615T130000@VHSAALEN
SUMMARY:ONLINE Deutsch B 1 - Teil 2 Integrationskurs (261-40611) 
LOCATION:Online, Zoom,  , 73430
END:VEVENT
BEGIN:VEVENT
DTSTAMP:20260422T084744
DTSTART;TZID=Europe/Berlin:20260616T130000
DTEND;TZID=Europe/Berlin:20260616T152500
UID:261-40611-20260616T130000@VHSAALEN
SUMMARY:ONLINE Deutsch B 1 - Teil 2 Integrationskurs (261-40611) 
LOCATION:Online, Zoom,  , 73430
END:VEVENT
BEGIN:VEVENT
DTSTAMP:20260422T084744
DTSTART;TZID=Europe/Berlin:20260617T130000
DTEND;TZID=Europe/Berlin:20260617T152500
UID:261-40611-20260617T130000@VHSAALEN
SUMMARY:ONLINE Deutsch B 1 - Teil 2 Integrationskurs (261-40611) 
LOCATION:Online, Zoom,  , 73430
END:VEVENT
BEGIN:VEVENT
DTSTAMP:20260422T084744
DTSTART;TZID=Europe/Berlin:20260618T130000
DTEND;TZID=Europe/Berlin:20260618T152500
UID:261-40611-20260618T130000@VHSAALEN
SUMMARY:ONLINE Deutsch B 1 - Teil 2 Integrationskurs (261-40611) 
LOCATION:Online, Zoom,  , 73430
END:VEVENT
BEGIN:VEVENT
DTSTAMP:20260422T084744
DTSTART;TZID=Europe/Berlin:20260622T130000
DTEND;TZID=Europe/Berlin:20260622T161000
UID:261-40611-20260622T130000@VHSAALEN
SUMMARY:ONLINE Deutsch B 1 - Teil 2 Integrationskurs (261-40611) 
LOCATION:Online, Zoom,  , 73430
END:VEVENT
BEGIN:VEVENT
DTSTAMP:20260422T084744
DTSTART;TZID=Europe/Berlin:20260623T130000
DTEND;TZID=Europe/Berlin:20260623T152500
UID:261-40611-20260623T130000@VHSAALEN
SUMMARY:ONLINE Deutsch B 1 - Teil 2 Integrationskurs (261-40611) 
LOCATION:Online, Zoom,  , 73430
END:VEVENT
END:VCALENDAR