BEGIN:VCALENDAR
VERSION:2.0
PRODID:https://www.kufer.de/kuferweb / DE
METHOD:PUBLISH
CALSCALE:GREGORIAN
X-WR-TIMEZONE:Europe/Berlin
BEGIN:VTIMEZONE
TZID:Europe/Berlin
X-LIC-LOCATION:Europe/Berlin
BEGIN:DAYLIGHT
TZOFFSETFROM:+0100
TZOFFSETTO:+0200
TZNAME:CEST
DTSTART:19700329T020000
RRULE:FREQ=YEARLY;INTERVAL=1;BYDAY=-1SU;BYMONTH=3
END:DAYLIGHT
BEGIN:STANDARD
TZOFFSETFROM:+0200
TZOFFSETTO:+0100
TZNAME:CET
DTSTART:19701025T030000
RRULE:FREQ=YEARLY;INTERVAL=1;BYDAY=-1SU;BYMONTH=10
END:STANDARD
END:VTIMEZONE
BEGIN:VEVENT
DTSTAMP:20260422T103857
DTSTART;TZID=Europe/Berlin:20260803T140000
DTEND;TZID=Europe/Berlin:20260803T180000
UID:261-28230-20260803T140000@VHSAALEN
SUMMARY:Ferienprogramm - Mädels Woche  (13–17 Jahre) (261-28230) 
LOCATION:Torhaus, Werkstatt, 3.OG, Gmünder Str. 9,73430 Aalen, Gmünder Str. 9, 73430 Aalen
END:VEVENT
BEGIN:VEVENT
DTSTAMP:20260422T103857
DTSTART;TZID=Europe/Berlin:20260804T140000
DTEND;TZID=Europe/Berlin:20260804T180000
UID:261-28230-20260804T140000@VHSAALEN
SUMMARY:Ferienprogramm - Mädels Woche  (13–17 Jahre) (261-28230) 
LOCATION:Torhaus, Werkstatt, 3.OG, Gmünder Str. 9,73430 Aalen, Gmünder Str. 9, 73430 Aalen
END:VEVENT
BEGIN:VEVENT
DTSTAMP:20260422T103857
DTSTART;TZID=Europe/Berlin:20260805T140000
DTEND;TZID=Europe/Berlin:20260805T180000
UID:261-28230-20260805T140000@VHSAALEN
SUMMARY:Ferienprogramm - Mädels Woche  (13–17 Jahre) (261-28230) 
LOCATION:Torhaus, Unterrichtsraum 1, 3.OG, Gmünder Str. 9,73430 Aalen, Gmünder Str. 9, 73430 Aalen
END:VEVENT
BEGIN:VEVENT
DTSTAMP:20260422T103857
DTSTART;TZID=Europe/Berlin:20260806T140000
DTEND;TZID=Europe/Berlin:20260806T180000
UID:261-28230-20260806T140000@VHSAALEN
SUMMARY:Ferienprogramm - Mädels Woche  (13–17 Jahre) (261-28230) 
LOCATION:Torhaus, Gymnastikraum, 2.OG, Gmünder Str. 9,73430 Aalen, Gmünder Str. 9, 73430 Aalen
END:VEVENT
BEGIN:VEVENT
DTSTAMP:20260422T103857
DTSTART;TZID=Europe/Berlin:20260807T140000
DTEND;TZID=Europe/Berlin:20260807T180000
UID:261-28230-20260807T140000@VHSAALEN
SUMMARY:Ferienprogramm - Mädels Woche  (13–17 Jahre) (261-28230) 
LOCATION:Torhaus, Gymnastikraum, 2.OG, Gmünder Str. 9,73430 Aalen, Gmünder Str. 9, 73430 Aalen
END:VEVENT
END:VCALENDAR