BEGIN:VCALENDAR
VERSION:2.0
PRODID:https://www.kufer.de/kuferweb / DE
METHOD:PUBLISH
CALSCALE:GREGORIAN
X-WR-TIMEZONE:Europe/Berlin
BEGIN:VTIMEZONE
TZID:Europe/Berlin
X-LIC-LOCATION:Europe/Berlin
BEGIN:DAYLIGHT
TZOFFSETFROM:+0100
TZOFFSETTO:+0200
TZNAME:CEST
DTSTART:19700329T020000
RRULE:FREQ=YEARLY;INTERVAL=1;BYDAY=-1SU;BYMONTH=3
END:DAYLIGHT
BEGIN:STANDARD
TZOFFSETFROM:+0200
TZOFFSETTO:+0100
TZNAME:CET
DTSTART:19701025T030000
RRULE:FREQ=YEARLY;INTERVAL=1;BYDAY=-1SU;BYMONTH=10
END:STANDARD
END:VTIMEZONE
BEGIN:VEVENT
DTSTAMP:20260424T182920
DTSTART;TZID=Europe/Berlin:20241008T180000
DTEND;TZID=Europe/Berlin:20241008T193000
UID:242-30238-20241008T180000@VHSAALEN
SUMMARY:Hatha-Yoga (242-30238) 
LOCATION:Friedensschule, vhs-Raum 2, Schulstr. 1, 73432 Aalen, Elisabethenstr. 1, 73432 Aalen
END:VEVENT
BEGIN:VEVENT
DTSTAMP:20260424T182920
DTSTART;TZID=Europe/Berlin:20241015T180000
DTEND;TZID=Europe/Berlin:20241015T193000
UID:242-30238-20241015T180000@VHSAALEN
SUMMARY:Hatha-Yoga (242-30238) 
LOCATION:Friedensschule, vhs-Raum 2, Schulstr. 1, 73432 Aalen, Elisabethenstr. 1, 73432 Aalen
END:VEVENT
BEGIN:VEVENT
DTSTAMP:20260424T182920
DTSTART;TZID=Europe/Berlin:20241022T180000
DTEND;TZID=Europe/Berlin:20241022T193000
UID:242-30238-20241022T180000@VHSAALEN
SUMMARY:Hatha-Yoga (242-30238) 
LOCATION:Friedensschule, vhs-Raum 2, Schulstr. 1, 73432 Aalen, Elisabethenstr. 1, 73432 Aalen
END:VEVENT
BEGIN:VEVENT
DTSTAMP:20260424T182920
DTSTART;TZID=Europe/Berlin:20241105T180000
DTEND;TZID=Europe/Berlin:20241105T193000
UID:242-30238-20241105T180000@VHSAALEN
SUMMARY:Hatha-Yoga (242-30238) 
LOCATION:Friedensschule, vhs-Raum 2, Schulstr. 1, 73432 Aalen, Elisabethenstr. 1, 73432 Aalen
END:VEVENT
BEGIN:VEVENT
DTSTAMP:20260424T182920
DTSTART;TZID=Europe/Berlin:20241112T180000
DTEND;TZID=Europe/Berlin:20241112T193000
UID:242-30238-20241112T180000@VHSAALEN
SUMMARY:Hatha-Yoga (242-30238) 
LOCATION:Friedensschule, vhs-Raum 2, Schulstr. 1, 73432 Aalen, Elisabethenstr. 1, 73432 Aalen
END:VEVENT
BEGIN:VEVENT
DTSTAMP:20260424T182920
DTSTART;TZID=Europe/Berlin:20241119T180000
DTEND;TZID=Europe/Berlin:20241119T193000
UID:242-30238-20241119T180000@VHSAALEN
SUMMARY:Hatha-Yoga (242-30238) 
LOCATION:Friedensschule, vhs-Raum 2, Schulstr. 1, 73432 Aalen, Elisabethenstr. 1, 73432 Aalen
END:VEVENT
BEGIN:VEVENT
DTSTAMP:20260424T182920
DTSTART;TZID=Europe/Berlin:20241126T180000
DTEND;TZID=Europe/Berlin:20241126T193000
UID:242-30238-20241126T180000@VHSAALEN
SUMMARY:Hatha-Yoga (242-30238) 
LOCATION:Friedensschule, vhs-Raum 2, Schulstr. 1, 73432 Aalen, Elisabethenstr. 1, 73432 Aalen
END:VEVENT
BEGIN:VEVENT
DTSTAMP:20260424T182920
DTSTART;TZID=Europe/Berlin:20241203T180000
DTEND;TZID=Europe/Berlin:20241203T193000
UID:242-30238-20241203T180000@VHSAALEN
SUMMARY:Hatha-Yoga (242-30238) 
LOCATION:Friedensschule, vhs-Raum 2, Schulstr. 1, 73432 Aalen, Elisabethenstr. 1, 73432 Aalen
END:VEVENT
BEGIN:VEVENT
DTSTAMP:20260424T182920
DTSTART;TZID=Europe/Berlin:20241210T180000
DTEND;TZID=Europe/Berlin:20241210T193000
UID:242-30238-20241210T180000@VHSAALEN
SUMMARY:Hatha-Yoga (242-30238) 
LOCATION:Friedensschule, vhs-Raum 2, Schulstr. 1, 73432 Aalen, Elisabethenstr. 1, 73432 Aalen
END:VEVENT
BEGIN:VEVENT
DTSTAMP:20260424T182920
DTSTART;TZID=Europe/Berlin:20241217T180000
DTEND;TZID=Europe/Berlin:20241217T193000
UID:242-30238-20241217T180000@VHSAALEN
SUMMARY:Hatha-Yoga (242-30238) 
LOCATION:Friedensschule, vhs-Raum 2, Schulstr. 1, 73432 Aalen, Elisabethenstr. 1, 73432 Aalen
END:VEVENT
BEGIN:VEVENT
DTSTAMP:20260424T182920
DTSTART;TZID=Europe/Berlin:20250107T180000
DTEND;TZID=Europe/Berlin:20250107T193000
UID:242-30238-20250107T180000@VHSAALEN
SUMMARY:Hatha-Yoga (242-30238) 
LOCATION:Friedensschule, vhs-Raum 2, Schulstr. 1, 73432 Aalen, Elisabethenstr. 1, 73432 Aalen
END:VEVENT
BEGIN:VEVENT
DTSTAMP:20260424T182920
DTSTART;TZID=Europe/Berlin:20250114T180000
DTEND;TZID=Europe/Berlin:20250114T193000
UID:242-30238-20250114T180000@VHSAALEN
SUMMARY:Hatha-Yoga (242-30238) 
LOCATION:Friedensschule, vhs-Raum 2, Schulstr. 1, 73432 Aalen, Elisabethenstr. 1, 73432 Aalen
END:VEVENT
END:VCALENDAR